BEGIN:VCALENDAR
VERSION:2.0
PRODID:-//Ranch13.sk//NetteEventExport//EN
CALSCALE:GREGORIAN
METHOD:PUBLISH
BEGIN:VEVENT
SUMMARY:Christmas Alley - Frosty + party
DTSTART:20261226T170000
DTEND:20261226T200000
UID:art-328@www.ranch13.sk
URL:https://www.ranch13.sk/en/christmas-alley-frosty-fun
DTSTAMP:20260415T110643
DESCRIPTION:Wa6059
END:VEVENT
END:VCALENDAR
