BEGIN:VCALENDAR
VERSION:2.0
PRODID:-//Ranch13.sk//NetteEventExport//EN
CALSCALE:GREGORIAN
METHOD:PUBLISH
BEGIN:VEVENT
SUMMARY:Christmas Alley - Princess with a gold star
DTSTART:20261227T170000
DTEND:20261227T200000
UID:art-329@www.ranch13.sk
URL:https://www.ranch13.sk/en/christmas-aisle-princess-with-a-gold-star
DTSTAMP:20260415T110605
DESCRIPTION:Wa6059
END:VEVENT
END:VCALENDAR
