BEGIN:VCALENDAR
VERSION:2.0
PRODID:-//Ranch13.sk//NetteEventExport//EN
CALSCALE:GREGORIAN
METHOD:PUBLISH
BEGIN:VEVENT
SUMMARY:Bull Riding 26.9.2026
DTSTART:20260926T180000
DTEND:20260926T220000
UID:art-237@www.ranch13.sk
URL:https://www.ranch13.sk/en/bull-riding-26-9-2026
DTSTAMP:20260417T142539
DESCRIPTION:Wa6011\n<h3> </h3>\n<h3><em><strong>Bull riding</strong> - riding wild bulls is full of adrenaline. </em></h3>\n<h2 style="text-align\: center\;"><span style="font-size\: 18pt\;"><strong>SEE YOU SEPTEMBER 26\, 2026</strong></span></h2>\n<p style="text-align\: left\;">Bull riding\, or rodeo on wild bulls\, is considered the most interesting\, most sought-after\, toughest and at the same time most dangerous sport on our planet in the world. According to American tradition\, the rider must stay on the back of a raging bull for at least eight seconds. The rider is tied to the bull with one hand with a long braided rope called a Rope. While riding\, he must not touch the bull with the other hand. Bull Riding is also called "the most dangerous eight seconds in sports" due to its enormous level of risk.</p>\n<p style="text-align\: left\;"><strong>Buy your tickets so you don't miss the best seats!</strong></p>
END:VEVENT
END:VCALENDAR
