BEGIN:VCALENDAR
VERSION:2.0
PRODID:-//Ranch13.sk//NetteEventExport//EN
CALSCALE:GREGORIAN
METHOD:PUBLISH
BEGIN:VEVENT
SUMMARY:CELÝ AREÁL - FAMILY DAY - Brokeria\, a.s.
DTSTART:20250801T000000
DTEND:20250801T180000
UID:art-204@www.ranch13.sk
URL:https://www.ranch13.sk/cely-areal-family-day-brokeria-a-s
DTSTAMP:20250508T154254
DESCRIPTION:Wa5059
END:VEVENT
END:VCALENDAR
